BEGIN:VCALENDAR
VERSION:2.0
PRODID:-//Lake Superior State University - ECPv6.15.20//NONSGML v1.0//EN
CALSCALE:GREGORIAN
METHOD:PUBLISH
X-ORIGINAL-URL:https://www.lssu.edu
X-WR-CALDESC:Events for Lake Superior State University
REFRESH-INTERVAL;VALUE=DURATION:PT1H
X-Robots-Tag:noindex
X-PUBLISHED-TTL:PT1H
BEGIN:VTIMEZONE
TZID:America/Detroit
BEGIN:DAYLIGHT
TZOFFSETFROM:-0500
TZOFFSETTO:-0400
TZNAME:EDT
DTSTART:20250309T070000
END:DAYLIGHT
BEGIN:STANDARD
TZOFFSETFROM:-0400
TZOFFSETTO:-0500
TZNAME:EST
DTSTART:20251102T060000
END:STANDARD
BEGIN:DAYLIGHT
TZOFFSETFROM:-0500
TZOFFSETTO:-0400
TZNAME:EDT
DTSTART:20260308T070000
END:DAYLIGHT
BEGIN:STANDARD
TZOFFSETFROM:-0400
TZOFFSETTO:-0500
TZNAME:EST
DTSTART:20261101T060000
END:STANDARD
BEGIN:DAYLIGHT
TZOFFSETFROM:-0500
TZOFFSETTO:-0400
TZNAME:EDT
DTSTART:20270314T070000
END:DAYLIGHT
BEGIN:STANDARD
TZOFFSETFROM:-0400
TZOFFSETTO:-0500
TZNAME:EST
DTSTART:20271107T060000
END:STANDARD
END:VTIMEZONE
BEGIN:VEVENT
DTSTART;TZID=America/Detroit:20260127T120000
DTEND;TZID=America/Detroit:20260127T140000
DTSTAMP:20260419T095445
CREATED:20260116T155923Z
LAST-MODIFIED:20260116T155923Z
UID:100933-1769515200-1769522400@www.lssu.edu
SUMMARY:Soup Tuesday
DESCRIPTION:
URL:https://www.lssu.edu/todays-event/soup-tuesday-2/
LOCATION:Eskoonwid Endaad\, 650 W. Easterday Ave.
ORGANIZER;CN="Native American Center":MAILTO:nac@lssu.edu
END:VEVENT
BEGIN:VEVENT
DTSTART;TZID=America/Detroit:20260127T190000
DTEND;TZID=America/Detroit:20260127T210000
DTSTAMP:20260419T095445
CREATED:20260116T160425Z
LAST-MODIFIED:20260116T160425Z
UID:100946-1769540400-1769547600@www.lssu.edu
SUMMARY:Rush Week Vision Boards
DESCRIPTION:
URL:https://www.lssu.edu/todays-event/rush-week-vision-boards/
LOCATION:Student Engagement Center
END:VEVENT
END:VCALENDAR