BEGIN:VCALENDAR
VERSION:2.0
PRODID:-//Lake Superior State University - ECPv6.15.20//NONSGML v1.0//EN
CALSCALE:GREGORIAN
METHOD:PUBLISH
X-WR-CALNAME:Lake Superior State University
X-ORIGINAL-URL:https://www.lssu.edu
X-WR-CALDESC:Events for Lake Superior State University
REFRESH-INTERVAL;VALUE=DURATION:PT1H
X-Robots-Tag:noindex
X-PUBLISHED-TTL:PT1H
BEGIN:VTIMEZONE
TZID:America/Detroit
BEGIN:DAYLIGHT
TZOFFSETFROM:-0500
TZOFFSETTO:-0400
TZNAME:EDT
DTSTART:20250309T070000
END:DAYLIGHT
BEGIN:STANDARD
TZOFFSETFROM:-0400
TZOFFSETTO:-0500
TZNAME:EST
DTSTART:20251102T060000
END:STANDARD
BEGIN:DAYLIGHT
TZOFFSETFROM:-0500
TZOFFSETTO:-0400
TZNAME:EDT
DTSTART:20260308T070000
END:DAYLIGHT
BEGIN:STANDARD
TZOFFSETFROM:-0400
TZOFFSETTO:-0500
TZNAME:EST
DTSTART:20261101T060000
END:STANDARD
BEGIN:DAYLIGHT
TZOFFSETFROM:-0500
TZOFFSETTO:-0400
TZNAME:EDT
DTSTART:20270314T070000
END:DAYLIGHT
BEGIN:STANDARD
TZOFFSETFROM:-0400
TZOFFSETTO:-0500
TZNAME:EST
DTSTART:20271107T060000
END:STANDARD
END:VTIMEZONE
BEGIN:VEVENT
DTSTART;TZID=America/Detroit:20260128T100000
DTEND;TZID=America/Detroit:20260128T120000
DTSTAMP:20260419T095314
CREATED:20260116T160501Z
LAST-MODIFIED:20260116T160501Z
UID:100948-1769594400-1769601600@www.lssu.edu
SUMMARY:Rush Week Commuter Coffee Meetup
DESCRIPTION:
URL:https://www.lssu.edu/todays-event/rush-week-commuter-coffee-meetup/
LOCATION:R.W. Considine Hall
END:VEVENT
END:VCALENDAR