BEGIN:VCALENDAR
VERSION:2.0
PRODID:-//Lake Superior State University - ECPv6.15.20//NONSGML v1.0//EN
CALSCALE:GREGORIAN
METHOD:PUBLISH
X-WR-CALNAME:Lake Superior State University
X-ORIGINAL-URL:https://www.lssu.edu
X-WR-CALDESC:Events for Lake Superior State University
REFRESH-INTERVAL;VALUE=DURATION:PT1H
X-Robots-Tag:noindex
X-PUBLISHED-TTL:PT1H
BEGIN:VTIMEZONE
TZID:America/Detroit
BEGIN:DAYLIGHT
TZOFFSETFROM:-0500
TZOFFSETTO:-0400
TZNAME:EDT
DTSTART:20250309T070000
END:DAYLIGHT
BEGIN:STANDARD
TZOFFSETFROM:-0400
TZOFFSETTO:-0500
TZNAME:EST
DTSTART:20251102T060000
END:STANDARD
BEGIN:DAYLIGHT
TZOFFSETFROM:-0500
TZOFFSETTO:-0400
TZNAME:EDT
DTSTART:20260308T070000
END:DAYLIGHT
BEGIN:STANDARD
TZOFFSETFROM:-0400
TZOFFSETTO:-0500
TZNAME:EST
DTSTART:20261101T060000
END:STANDARD
BEGIN:DAYLIGHT
TZOFFSETFROM:-0500
TZOFFSETTO:-0400
TZNAME:EDT
DTSTART:20270314T070000
END:DAYLIGHT
BEGIN:STANDARD
TZOFFSETFROM:-0400
TZOFFSETTO:-0500
TZNAME:EST
DTSTART:20271107T060000
END:STANDARD
END:VTIMEZONE
BEGIN:VEVENT
DTSTART;VALUE=DATE:20260309
DTEND;VALUE=DATE:20260313
DTSTAMP:20260422T072758
CREATED:20260108T185454Z
LAST-MODIFIED:20260226T180949Z
UID:100662-1773014400-1773359999@www.lssu.edu
SUMMARY:Major Exploration Week (Virtual)
DESCRIPTION:A four-night virtual series designed to help admitted and prospective students choose their academic path confidently. Each session features a different academic college\, with opportunities to connect with faculty\, current students\, and admissions staff. Learn more about programs\, career pathways\, hands-on learning experiences\, next steps for enrollment\, and all things Lake State. \nVirtual College Sessions | 6:00-7:30 PM \n\nMonday (3/9): College of Health and Emergency Responders\nTuesday (3/10): College of Arts and Sciences\nWednesday (3/11): College of Great Lakes Ecology and Education\nThursday (3/12): College of Business\, Engineering\, Computer Science\, and Mathematics\n\nSessions include a warm welcome from university leadership\, an overview of the college\, interactive breakout discussions\, and plenty of opportunities to get your questions answered. Participants will also receive guidance on confirming their major\, orientation\, housing\, and enrolling at LSSU! \nRegister using the website link below.
URL:https://www.lssu.edu/todays-event/major-exploration-week-virtual/
LOCATION:Lake Superior State University
END:VEVENT
BEGIN:VEVENT
DTSTART;TZID=America/Detroit:20260310T190000
DTEND;TZID=America/Detroit:20260310T210000
DTSTAMP:20260422T072758
CREATED:20260305T144858Z
LAST-MODIFIED:20260305T144858Z
UID:104939-1773169200-1773176400@www.lssu.edu
SUMMARY:80s Disco Social
DESCRIPTION:
URL:https://www.lssu.edu/todays-event/80s-disco-social/
LOCATION:R.W. Considine Hall
END:VEVENT
END:VCALENDAR