BEGIN:VCALENDAR
VERSION:2.0
PRODID:-//Lake Superior State University - ECPv6.15.20//NONSGML v1.0//EN
CALSCALE:GREGORIAN
METHOD:PUBLISH
X-WR-CALNAME:Lake Superior State University
X-ORIGINAL-URL:https://www.lssu.edu
X-WR-CALDESC:Events for Lake Superior State University
REFRESH-INTERVAL;VALUE=DURATION:PT1H
X-Robots-Tag:noindex
X-PUBLISHED-TTL:PT1H
BEGIN:VTIMEZONE
TZID:America/Detroit
BEGIN:DAYLIGHT
TZOFFSETFROM:-0500
TZOFFSETTO:-0400
TZNAME:EDT
DTSTART:20250309T070000
END:DAYLIGHT
BEGIN:STANDARD
TZOFFSETFROM:-0400
TZOFFSETTO:-0500
TZNAME:EST
DTSTART:20251102T060000
END:STANDARD
BEGIN:DAYLIGHT
TZOFFSETFROM:-0500
TZOFFSETTO:-0400
TZNAME:EDT
DTSTART:20260308T070000
END:DAYLIGHT
BEGIN:STANDARD
TZOFFSETFROM:-0400
TZOFFSETTO:-0500
TZNAME:EST
DTSTART:20261101T060000
END:STANDARD
BEGIN:DAYLIGHT
TZOFFSETFROM:-0500
TZOFFSETTO:-0400
TZNAME:EDT
DTSTART:20270314T070000
END:DAYLIGHT
BEGIN:STANDARD
TZOFFSETFROM:-0400
TZOFFSETTO:-0500
TZNAME:EST
DTSTART:20271107T060000
END:STANDARD
END:VTIMEZONE
BEGIN:VEVENT
DTSTART;TZID=America/Detroit:20260329T143000
DTEND;TZID=America/Detroit:20260329T163000
DTSTAMP:20260421T165232
CREATED:20260116T171154Z
LAST-MODIFIED:20260326T150718Z
UID:100983-1774794600-1774801800@www.lssu.edu
SUMMARY:The Stonewater Rapture By Doug Wright
DESCRIPTION:Event Type: Theatrical Performance \nAudience: General (Recommended 17+ years) \nDate of Performace: March 25th-28th\, 2026 @ 7PM | March 28th-29th\, 2026 @ 2:30PM \nCost: General Audience $5| Free for LSSU Students\, Staff and Faculty \n\nDescription: \nSet deep in the Bible Belt\, The Stonewater Rapture follows two teenagers as they confront the collision between strict religious ideals and the complicated realities of growing up. Whitney\, newly elected president of his church’s youth ministry\, attempts to navigate desire\, doubt\, and morality\, while Carlyle wrestles with trauma through the lens of faith and fantasy. As their beliefs are tested\, the two must face truths that challenge the world they’ve been taught to trust. Directed by Noah Lucé\, this intimate two-person drama offers a stark\, moving examination of innocence\, conviction\, and the cost of trying to reconcile faith with lived experience. \n**Cast:**\nJake Jackson as Whitney\nRiley Kloeckner as Carlyle \n*This show contains very mature content and strong language\, recommended for audiences 17 years and older. This Event is supported by the Issues and Intellect Fund.
URL:https://www.lssu.edu/todays-event/the-stonewater-rapture-by-doug-wright-6/
LOCATION:Arts Center\, Circle Dr\, Sault Sainte Marie\, MI\, 49783\, United States
ORGANIZER;CN="Arts Center":MAILTO:artscenter@lssu.edu
END:VEVENT
END:VCALENDAR