BEGIN:VCALENDAR
VERSION:2.0
PRODID:-//Lake Superior State University - ECPv6.15.20//NONSGML v1.0//EN
CALSCALE:GREGORIAN
METHOD:PUBLISH
X-ORIGINAL-URL:https://www.lssu.edu
X-WR-CALDESC:Events for Lake Superior State University
REFRESH-INTERVAL;VALUE=DURATION:PT1H
X-Robots-Tag:noindex
X-PUBLISHED-TTL:PT1H
BEGIN:VTIMEZONE
TZID:America/Detroit
BEGIN:DAYLIGHT
TZOFFSETFROM:-0500
TZOFFSETTO:-0400
TZNAME:EDT
DTSTART:20250309T070000
END:DAYLIGHT
BEGIN:STANDARD
TZOFFSETFROM:-0400
TZOFFSETTO:-0500
TZNAME:EST
DTSTART:20251102T060000
END:STANDARD
BEGIN:DAYLIGHT
TZOFFSETFROM:-0500
TZOFFSETTO:-0400
TZNAME:EDT
DTSTART:20260308T070000
END:DAYLIGHT
BEGIN:STANDARD
TZOFFSETFROM:-0400
TZOFFSETTO:-0500
TZNAME:EST
DTSTART:20261101T060000
END:STANDARD
BEGIN:DAYLIGHT
TZOFFSETFROM:-0500
TZOFFSETTO:-0400
TZNAME:EDT
DTSTART:20270314T070000
END:DAYLIGHT
BEGIN:STANDARD
TZOFFSETFROM:-0400
TZOFFSETTO:-0500
TZNAME:EST
DTSTART:20271107T060000
END:STANDARD
END:VTIMEZONE
BEGIN:VEVENT
DTSTART;TZID=America/Detroit:20260206T190000
DTEND;TZID=America/Detroit:20260206T210000
DTSTAMP:20260421T060104
CREATED:20260205T183654Z
LAST-MODIFIED:20260205T183654Z
UID:101193-1770404400-1770411600@www.lssu.edu
SUMMARY:Cupids Cancelled/Anti-Valentines Party!
DESCRIPTION:
URL:https://www.lssu.edu/todays-event/cupids-cancelled-anti-valentines-party/
LOCATION:The Galley – Walker Cisler Student and Conference Center
END:VEVENT
BEGIN:VEVENT
DTSTART;TZID=America/Detroit:20260209T190000
DTEND;TZID=America/Detroit:20260209T210000
DTSTAMP:20260421T060104
CREATED:20260128T142655Z
LAST-MODIFIED:20260128T142655Z
UID:101078-1770663600-1770670800@www.lssu.edu
SUMMARY:Paint\, Sip\, & Slam
DESCRIPTION:Enjoy a relaxing night of painting (paint by number or freestyle)! \nWe will have FREE mocktails and……SLAM POETRY! \nYOU DON’T HAVE TO PARTICIPATE – BUT WE’D LOVE IF YOU DID! TRY USING THE BANISHED WORDS!
URL:https://www.lssu.edu/todays-event/paint-sip-slam/
LOCATION:R.W. Considine Hall
END:VEVENT
BEGIN:VEVENT
DTSTART;TZID=America/Detroit:20260210T120000
DTEND;TZID=America/Detroit:20260210T140000
DTSTAMP:20260421T060104
CREATED:20260116T160558Z
LAST-MODIFIED:20260116T160637Z
UID:100953-1770724800-1770732000@www.lssu.edu
SUMMARY:Soup Tuesday
DESCRIPTION:
URL:https://www.lssu.edu/todays-event/soup-tuesday-4/
LOCATION:Eskoonwid Endaad\, 650 W. Easterday Ave.
ORGANIZER;CN="Native American Center":MAILTO:nac@lssu.edu
END:VEVENT
BEGIN:VEVENT
DTSTART;TZID=America/Detroit:20260211T170000
DTEND;TZID=America/Detroit:20260211T190000
DTSTAMP:20260421T060104
CREATED:20260205T183915Z
LAST-MODIFIED:20260205T183915Z
UID:101197-1770829200-1770836400@www.lssu.edu
SUMMARY:Water Your Garden
DESCRIPTION:
URL:https://www.lssu.edu/todays-event/water-your-garden/
LOCATION:The Galley – Walker Cisler Student and Conference Center
END:VEVENT
BEGIN:VEVENT
DTSTART;TZID=America/Detroit:20260211T190000
DTEND;TZID=America/Detroit:20260211T210000
DTSTAMP:20260421T060104
CREATED:20260116T170734Z
LAST-MODIFIED:20260116T170734Z
UID:100963-1770836400-1770843600@www.lssu.edu
SUMMARY:The Meeting by Mariana Bezerra
DESCRIPTION:Event Type: Theatrical Performance \nAudience: General (Recommended 13+ years) \nDate of Performace: February 11th- 13th\, 2026 @ 7PM | February 14th\, 2026 @ 2:30PM & 7:30PM \nCost: General Audience $5| Free for LSSU Students\, Staff and Faculty \n\nDescription: \nJoin us for a new\, dark comedy written by LSSU alum Mariana Bezerra\, presented in the intimate Black Box Theatre. The Meeting puts us in the world of a group therapy session and asks us to explore the many thoughts\, feelings\, and ideas that make us human. With limited seating and a bold new voice emerging from our own campus community\, this production offers an up-close theatrical experience directed by Assistant Professor Adam St. John. \n*This show contains profanity\, recommended for audiences 13 years and older. This Event is supported by the Issues and Intellect Fund.
URL:https://www.lssu.edu/todays-event/the-meeting-by-mariana-bezerra/
LOCATION:Arts Center Black Box Theater
ORGANIZER;CN="Arts Center":MAILTO:artscenter@lssu.edu
END:VEVENT
BEGIN:VEVENT
DTSTART;TZID=America/Detroit:20260212T190000
DTEND;TZID=America/Detroit:20260212T210000
DTSTAMP:20260421T060104
CREATED:20260116T170753Z
LAST-MODIFIED:20260116T170753Z
UID:100965-1770922800-1770930000@www.lssu.edu
SUMMARY:The Meeting by Mariana Bezerra
DESCRIPTION:Event Type: Theatrical Performance \nAudience: General (Recommended 13+ years) \nDate of Performace: February 11th- 13th\, 2026 @ 7PM | February 14th\, 2026 @ 2:30PM & 7:30PM \nCost: General Audience $5| Free for LSSU Students\, Staff and Faculty \n\nDescription: \nJoin us for a new\, dark comedy written by LSSU alum Mariana Bezerra\, presented in the intimate Black Box Theatre. The Meeting puts us in the world of a group therapy session and asks us to explore the many thoughts\, feelings\, and ideas that make us human. With limited seating and a bold new voice emerging from our own campus community\, this production offers an up-close theatrical experience directed by Assistant Professor Adam St. John. \n*This show contains profanity\, recommended for audiences 13 years and older. This Event is supported by the Issues and Intellect Fund.
URL:https://www.lssu.edu/todays-event/the-meeting-by-mariana-bezerra-2/
LOCATION:Arts Center Black Box Theater
ORGANIZER;CN="Arts Center":MAILTO:artscenter@lssu.edu
END:VEVENT
BEGIN:VEVENT
DTSTART;TZID=America/Detroit:20260212T200000
DTEND;TZID=America/Detroit:20260212T210000
DTSTAMP:20260421T060104
CREATED:20260205T184058Z
LAST-MODIFIED:20260205T184058Z
UID:101199-1770926400-1770930000@www.lssu.edu
SUMMARY:Jitters Gets Lovey Dovey
DESCRIPTION:
URL:https://www.lssu.edu/todays-event/jitters-gets-lovey-dovey/
LOCATION:The Galley – Walker Cisler Student and Conference Center
END:VEVENT
BEGIN:VEVENT
DTSTART;TZID=America/Detroit:20260213T190000
DTEND;TZID=America/Detroit:20260213T210000
DTSTAMP:20260421T060104
CREATED:20260116T170811Z
LAST-MODIFIED:20260116T170811Z
UID:100967-1771009200-1771016400@www.lssu.edu
SUMMARY:The Meeting by Mariana Bezerra
DESCRIPTION:Event Type: Theatrical Performance \nAudience: General (Recommended 13+ years) \nDate of Performace: February 11th- 13th\, 2026 @ 7PM | February 14th\, 2026 @ 2:30PM & 7:30PM \nCost: General Audience $5| Free for LSSU Students\, Staff and Faculty \n\nDescription: \nJoin us for a new\, dark comedy written by LSSU alum Mariana Bezerra\, presented in the intimate Black Box Theatre. The Meeting puts us in the world of a group therapy session and asks us to explore the many thoughts\, feelings\, and ideas that make us human. With limited seating and a bold new voice emerging from our own campus community\, this production offers an up-close theatrical experience directed by Assistant Professor Adam St. John. \n*This show contains profanity\, recommended for audiences 13 years and older. This Event is supported by the Issues and Intellect Fund.
URL:https://www.lssu.edu/todays-event/the-meeting-by-mariana-bezerra-3/
LOCATION:Arts Center Black Box Theater
ORGANIZER;CN="Arts Center":MAILTO:artscenter@lssu.edu
END:VEVENT
BEGIN:VEVENT
DTSTART;TZID=America/Detroit:20260214T143000
DTEND;TZID=America/Detroit:20260214T163000
DTSTAMP:20260421T060104
CREATED:20260116T170840Z
LAST-MODIFIED:20260116T170840Z
UID:100969-1771079400-1771086600@www.lssu.edu
SUMMARY:The Meeting by Mariana Bezerra
DESCRIPTION:Event Type: Theatrical Performance \nAudience: General (Recommended 13+ years) \nDate of Performace: February 11th- 13th\, 2026 @ 7PM | February 14th\, 2026 @ 2:30PM & 7:30PM \nCost: General Audience $5| Free for LSSU Students\, Staff and Faculty \n\nDescription: \nJoin us for a new\, dark comedy written by LSSU alum Mariana Bezerra\, presented in the intimate Black Box Theatre. The Meeting puts us in the world of a group therapy session and asks us to explore the many thoughts\, feelings\, and ideas that make us human. With limited seating and a bold new voice emerging from our own campus community\, this production offers an up-close theatrical experience directed by Assistant Professor Adam St. John. \n*This show contains profanity\, recommended for audiences 13 years and older. This Event is supported by the Issues and Intellect Fund.
URL:https://www.lssu.edu/todays-event/the-meeting-by-mariana-bezerra-4/
LOCATION:Arts Center Black Box Theater
ORGANIZER;CN="Arts Center":MAILTO:artscenter@lssu.edu
END:VEVENT
BEGIN:VEVENT
DTSTART;TZID=America/Detroit:20260214T193000
DTEND;TZID=America/Detroit:20260214T213000
DTSTAMP:20260421T060104
CREATED:20260116T170907Z
LAST-MODIFIED:20260116T170907Z
UID:100971-1771097400-1771104600@www.lssu.edu
SUMMARY:The Meeting by Mariana Bezerra
DESCRIPTION:Event Type: Theatrical Performance \nAudience: General (Recommended 13+ years) \nDate of Performace: February 11th- 13th\, 2026 @ 7PM | February 14th\, 2026 @ 2:30PM & 7:30PM \nCost: General Audience $5| Free for LSSU Students\, Staff and Faculty \n\nDescription: \nJoin us for a new\, dark comedy written by LSSU alum Mariana Bezerra\, presented in the intimate Black Box Theatre. The Meeting puts us in the world of a group therapy session and asks us to explore the many thoughts\, feelings\, and ideas that make us human. With limited seating and a bold new voice emerging from our own campus community\, this production offers an up-close theatrical experience directed by Assistant Professor Adam St. John. \n*This show contains profanity\, recommended for audiences 13 years and older. This Event is supported by the Issues and Intellect Fund.
URL:https://www.lssu.edu/todays-event/the-meeting-by-mariana-bezerra-5/
LOCATION:Arts Center Black Box Theater
ORGANIZER;CN="Arts Center":MAILTO:artscenter@lssu.edu
END:VEVENT
BEGIN:VEVENT
DTSTART;VALUE=DATE:20260216
DTEND;VALUE=DATE:20260220
DTSTAMP:20260421T060104
CREATED:20260205T184211Z
LAST-MODIFIED:20260205T184211Z
UID:101201-1771200000-1771545599@www.lssu.edu
SUMMARY:Greek Week
DESCRIPTION:
URL:https://www.lssu.edu/todays-event/greek-week/
END:VEVENT
BEGIN:VEVENT
DTSTART;TZID=America/Detroit:20260216T110000
DTEND;TZID=America/Detroit:20260216T120000
DTSTAMP:20260421T060104
CREATED:20260205T180255Z
LAST-MODIFIED:20260205T180255Z
UID:101186-1771239600-1771243200@www.lssu.edu
SUMMARY:Speaker: Edward Smith M.D.
DESCRIPTION:The School of Biological Sciences cordially invites you to hear LSSU alumnus and local hematologist/oncologist Edward Smith\, M.D. speak on Chronic Myelogenous Leukemia on Monday\, February 16\, from 11:00-11:50 AM in Crawford Hall room 303.
URL:https://www.lssu.edu/todays-event/speaker-edward-smith-m-d/
LOCATION:Crawford 303
ORGANIZER;CN="School of Biological Sciences":MAILTO:bevans@lssu.edu
END:VEVENT
BEGIN:VEVENT
DTSTART;TZID=America/Detroit:20260216T150000
DTEND;TZID=America/Detroit:20260216T170000
DTSTAMP:20260421T060104
CREATED:20260205T184257Z
LAST-MODIFIED:20260205T184257Z
UID:101203-1771254000-1771261200@www.lssu.edu
SUMMARY:Slime Pop Up
DESCRIPTION:
URL:https://www.lssu.edu/todays-event/slime-pop-up/
LOCATION:The Galley – Walker Cisler Student and Conference Center
END:VEVENT
BEGIN:VEVENT
DTSTART;TZID=America/Detroit:20260217T120000
DTEND;TZID=America/Detroit:20260217T140000
DTSTAMP:20260421T060104
CREATED:20260116T160617Z
LAST-MODIFIED:20260116T160617Z
UID:100955-1771329600-1771336800@www.lssu.edu
SUMMARY:Soup Tuesday
DESCRIPTION:
URL:https://www.lssu.edu/todays-event/soup-tuesday-5/
LOCATION:Eskoonwid Endaad\, 650 W. Easterday Ave.
ORGANIZER;CN="Native American Center":MAILTO:nac@lssu.edu
END:VEVENT
BEGIN:VEVENT
DTSTART;TZID=America/Detroit:20260217T170000
DTEND;TZID=America/Detroit:20260217T190000
DTSTAMP:20260421T060104
CREATED:20260205T184401Z
LAST-MODIFIED:20260205T184401Z
UID:101205-1771347600-1771354800@www.lssu.edu
SUMMARY:Bucket Lists and Bubbly Bliss
DESCRIPTION:
URL:https://www.lssu.edu/todays-event/bucket-lists-and-bubbly-bliss/
LOCATION:The Galley – Walker Cisler Student and Conference Center
END:VEVENT
BEGIN:VEVENT
DTSTART;TZID=America/Detroit:20260218T153000
DTEND;TZID=America/Detroit:20260218T170000
DTSTAMP:20260421T060104
CREATED:20260205T184535Z
LAST-MODIFIED:20260205T184535Z
UID:101207-1771428600-1771434000@www.lssu.edu
SUMMARY:Beadwork Pop Up
DESCRIPTION:
URL:https://www.lssu.edu/todays-event/beadwork-pop-up/
LOCATION:Eskoonwid Endaad\, 650 W. Easterday Ave.
ORGANIZER;CN="Native American Center":MAILTO:nac@lssu.edu
END:VEVENT
BEGIN:VEVENT
DTSTART;VALUE=DATE:20260219
DTEND;VALUE=DATE:20260222
DTSTAMP:20260421T060104
CREATED:20260116T155605Z
LAST-MODIFIED:20260116T155605Z
UID:100929-1771459200-1771718399@www.lssu.edu
SUMMARY:Basketball Alumni Reunion
DESCRIPTION:Laker Basketball Alumni Reunion Weekend: We will be honoring the 50th anniversary of the ’75-’76 men’s GLIAC regular season championship\, and 30th anniversary of the ’95-’96 men’s GLIAC Tournament Championship! Don’t miss this special event to honor past players and reconnect.
URL:https://www.lssu.edu/todays-event/basketball-alumni-reunion/
LOCATION:Bud Cooper Gymnasium\, 650 W. Easterday Ave\, Sault Ste. Marie\, MI\, 49783\, United States
ORGANIZER;CN="Alumni Association":MAILTO:alumnirelations@lssu.edu
END:VEVENT
BEGIN:VEVENT
DTSTART;VALUE=DATE:20260219
DTEND;VALUE=DATE:20260222
DTSTAMP:20260421T060104
CREATED:20260116T160859Z
LAST-MODIFIED:20260116T160859Z
UID:100959-1771459200-1771718399@www.lssu.edu
SUMMARY:Basketball Alumni Reunion
DESCRIPTION:
URL:https://www.lssu.edu/todays-event/basketball-alumni-reunion-2/
ORGANIZER;CN="Alumni Association":MAILTO:alumnirelations@lssu.edu
END:VEVENT
BEGIN:VEVENT
DTSTART;TZID=America/Detroit:20260219T200000
DTEND;TZID=America/Detroit:20260219T210000
DTSTAMP:20260421T060104
CREATED:20260205T184623Z
LAST-MODIFIED:20260205T184623Z
UID:101209-1771531200-1771534800@www.lssu.edu
SUMMARY:Grocery Bingo
DESCRIPTION:
URL:https://www.lssu.edu/todays-event/grocery-bingo/
LOCATION:The Galley – Walker Cisler Student and Conference Center
END:VEVENT
BEGIN:VEVENT
DTSTART;TZID=America/Detroit:20260220T190000
DTEND;TZID=America/Detroit:20260220T210000
DTSTAMP:20260421T060104
CREATED:20260205T184715Z
LAST-MODIFIED:20260205T184715Z
UID:101211-1771614000-1771621200@www.lssu.edu
SUMMARY:1920s Gatsby Murder Mystery Party
DESCRIPTION:
URL:https://www.lssu.edu/todays-event/1920s-gatsby-murder-mystery-party/
LOCATION:Crows Nest
END:VEVENT
BEGIN:VEVENT
DTSTART;TZID=America/Detroit:20260221T163000
DTEND;TZID=America/Detroit:20260221T193000
DTSTAMP:20260421T060104
CREATED:20260205T184828Z
LAST-MODIFIED:20260205T184828Z
UID:101213-1771691400-1771702200@www.lssu.edu
SUMMARY:Snowshoeing Event
DESCRIPTION:
URL:https://www.lssu.edu/todays-event/snowshoeing-event/
LOCATION:Tahquamenon Falls
END:VEVENT
BEGIN:VEVENT
DTSTART;TZID=America/Detroit:20260222T150000
DTEND;TZID=America/Detroit:20260222T163000
DTSTAMP:20260421T060104
CREATED:20260205T185237Z
LAST-MODIFIED:20260205T185237Z
UID:101223-1771772400-1771777800@www.lssu.edu
SUMMARY:Writer Series: Julie Buchholtz
DESCRIPTION:
URL:https://www.lssu.edu/todays-event/writer-series-julie-buchholtz/
LOCATION:Arts Center\, Circle Dr\, Sault Sainte Marie\, MI\, 49783\, United States
END:VEVENT
BEGIN:VEVENT
DTSTART;TZID=America/Detroit:20260224T120000
DTEND;TZID=America/Detroit:20260224T140000
DTSTAMP:20260421T060104
CREATED:20260116T160708Z
LAST-MODIFIED:20260116T160708Z
UID:100957-1771934400-1771941600@www.lssu.edu
SUMMARY:Soup Tuesday
DESCRIPTION:
URL:https://www.lssu.edu/todays-event/soup-tuesday-6/
LOCATION:Eskoonwid Endaad\, 650 W. Easterday Ave.
ORGANIZER;CN="Native American Center":MAILTO:nac@lssu.edu
END:VEVENT
BEGIN:VEVENT
DTSTART;TZID=America/Detroit:20260224T190000
DTEND;TZID=America/Detroit:20260224T203000
DTSTAMP:20260421T060104
CREATED:20260205T184937Z
LAST-MODIFIED:20260205T184937Z
UID:101216-1771959600-1771965000@www.lssu.edu
SUMMARY:Beaded Lanyard Workshop
DESCRIPTION:
URL:https://www.lssu.edu/todays-event/beaded-lanyard-workshop/
LOCATION:Eskoonwid Endaad\, 650 W. Easterday Ave.
ORGANIZER;CN="Native American Center":MAILTO:nac@lssu.edu
END:VEVENT
BEGIN:VEVENT
DTSTART;TZID=America/Detroit:20260224T190000
DTEND;TZID=America/Detroit:20260224T210000
DTSTAMP:20260421T060104
CREATED:20260205T185121Z
LAST-MODIFIED:20260205T185121Z
UID:101218-1771959600-1771966800@www.lssu.edu
SUMMARY:Writer Series: Sara Maurer
DESCRIPTION:
URL:https://www.lssu.edu/todays-event/writer-series-sara-maurer/
LOCATION:Kenneth J. Shouldice Library\, 650 w easterday ave\, Sault sainte marie\, 49783\, United States
END:VEVENT
BEGIN:VEVENT
DTSTART;TZID=America/Detroit:20260225T110000
DTEND;TZID=America/Detroit:20260225T130000
DTSTAMP:20260421T060104
CREATED:20260224T200826Z
LAST-MODIFIED:20260224T201042Z
UID:104229-1772017200-1772024400@www.lssu.edu
SUMMARY:Pre-Spring Break Luau Lunch
DESCRIPTION:
URL:https://www.lssu.edu/todays-event/pre-spring-break-luau-lunch/
LOCATION:Quarterdeck
END:VEVENT
BEGIN:VEVENT
DTSTART;TZID=America/Detroit:20260225T140000
DTEND;TZID=America/Detroit:20260225T160000
DTSTAMP:20260421T060104
CREATED:20260205T185341Z
LAST-MODIFIED:20260205T185341Z
UID:101225-1772028000-1772035200@www.lssu.edu
SUMMARY:Snow Snake
DESCRIPTION:
URL:https://www.lssu.edu/todays-event/snow-snake/
ORGANIZER;CN="Native American Center":MAILTO:nac@lssu.edu
END:VEVENT
BEGIN:VEVENT
DTSTART;TZID=America/Detroit:20260225T180000
DTEND;TZID=America/Detroit:20260225T200000
DTSTAMP:20260421T060104
CREATED:20260224T194509Z
LAST-MODIFIED:20260224T194510Z
UID:104210-1772042400-1772049600@www.lssu.edu
SUMMARY:Intro to D&D
DESCRIPTION:
URL:https://www.lssu.edu/todays-event/intro-to-dd/
LOCATION:R.W. Considine Hall
END:VEVENT
BEGIN:VEVENT
DTSTART;TZID=America/Detroit:20260226T200000
DTEND;TZID=America/Detroit:20260226T213000
DTSTAMP:20260421T060104
CREATED:20260205T185428Z
LAST-MODIFIED:20260205T185428Z
UID:101227-1772136000-1772141400@www.lssu.edu
SUMMARY:Broomball
DESCRIPTION:
URL:https://www.lssu.edu/todays-event/broomball-2/
LOCATION:Norris Center\, 650 W. Easterday Ave.\, Sault Ste. Marie\, MI\, 49783\, United States
END:VEVENT
BEGIN:VEVENT
DTSTART;TZID=America/Detroit:20260226T200000
DTEND;TZID=America/Detroit:20260226T220000
DTSTAMP:20260421T060104
CREATED:20260224T200949Z
LAST-MODIFIED:20260224T200949Z
UID:104234-1772136000-1772143200@www.lssu.edu
SUMMARY:Broomball
DESCRIPTION:
URL:https://www.lssu.edu/todays-event/broomball-3/
LOCATION:Norris Center\, 650 W. Easterday Ave.\, Sault Ste. Marie\, MI\, 49783\, United States
ORGANIZER;CN="University Activities Board":MAILTO:campuslife@lssu.edu
END:VEVENT
END:VCALENDAR